BEGIN:VCALENDAR
VERSION:2.0
PRODID:-//Universidad de Investigación e Innovación de México | UIIX - ECPv6.15.16//NONSGML v1.0//EN
CALSCALE:GREGORIAN
METHOD:PUBLISH
X-WR-CALNAME:Universidad de Investigación e Innovación de México | UIIX
X-ORIGINAL-URL:https://uiix.edu.mx
X-WR-CALDESC:Eventos para Universidad de Investigación e Innovación de México | UIIX
REFRESH-INTERVAL;VALUE=DURATION:PT1H
X-Robots-Tag:noindex
X-PUBLISHED-TTL:PT1H
BEGIN:VTIMEZONE
TZID:America/Mexico_City
BEGIN:STANDARD
TZOFFSETFROM:-0600
TZOFFSETTO:-0600
TZNAME:CST
DTSTART:20240101T000000
END:STANDARD
END:VTIMEZONE
BEGIN:VEVENT
DTSTART;TZID=America/Mexico_City:20250915T100000
DTEND;TZID=America/Mexico_City:20250915T110000
DTSTAMP:20260421T042108
CREATED:20250825T152705Z
LAST-MODIFIED:20250916T154438Z
UID:1009904-1757930400-1757934000@uiix.edu.mx
SUMMARY:Pensamiento Computacional en Acción: Programar con Scratch desde Primaria
DESCRIPTION:El pensamiento computacional se desarrolla a través de la programación en Scratch\, aplicando la descomposición\, reconocimiento de patrones\, abstracción\, y diseño de algoritmos en un entorno intuitivo y creativo. \nConferencista: Mtra. Angélica María Clavijo Agudelo \nHora: 10:00 a.m. (México) | 11:00 a.m. (Colombia) \nVER GRABACIÓN
URL:https://uiix.edu.mx/red-alumni-nexus-sci-evento/pensamiento-computacional-en-accion-programar-con-scratch-desde-primaria/
CATEGORIES:Conferencias NexusSci
ATTACH;FMTTYPE=image/png:https://uiix.edu.mx/wp-content/uploads/2025/08/logo-scratch-1.png
ORGANIZER;CN="UIIX - Red Alumni":MAILTO:redalumni@uiix.edu.mx
END:VEVENT
END:VCALENDAR